BEGIN:VCALENDAR
PRODID:NingEventWidget-v1
VERSION:2.0
METHOD:PUBLISH
BEGIN:VEVENT
UID:867289:Event:4231305
DTSTAMP:20260419T153642Z
SUMMARY:Cursos de Reiki Karuna 1 e 2 à distância
DESCRIPTION:Conteúdo do curso Karuna 1\nParticipe do curso de Karuna 
 1 ministrado por Moacir Sader, com enfoques exclusivos de como utiliza
 r o Reiki Karuna em conjunto com o Reiki Usui.\nNo curso ministrado po
 r Moacir Sader aprenderá técnicas maravilhosas para utilizar o Reiki
  Karuna de modo presencial e à distância e para diversas questões, 
 visto que os 4 símbolos do Karuna 1, extremamente fortes, apresentam 
 finalidades específicas e estas potencialidades estão sendo mostrada
 s de forma única neste curso, formatado carinhosa e singularmente por
  Moacir Sader.\nDe modo exclusivo, o aluno também será sintonizado n
 o poderoso símbolo Torusthá, símbolo ensinado por Jesus em uma sint
 onização de Mestrado Usui realizado por Moacir Sader, além de ser s
 intonizado ainda em 4 símbolos do Karuna 1.\nA partir da inscrição 
 começará a receber emails diários com experiências dos alunos e co
 mentários do mestre, outra exclusividade dos cursos de Moacir Sader, 
 pois, sem tempo definido, poderá continuar recebendo os emails diári
 os e fazer perguntas, porque as dúvidas surgem quando os novos reikia
 nos começam a praticar, sendo importante a presença constante e disp
 onível do Mestre de Reiki.\nNeste curso de Karuna 1 será aprendido:O
  que é o Reiki Karuna e sua origem;Como desenhar, falar e utilizar os
  4 símbolos do Karuna 1;Como enviar à distância a energia do Karuna
  1;Como fazer para potencializar a proteção dos chakras aprendidos n
 o curso Usui, visando à proteção pessoal e se evitando ataques ener
 gético, o chamado vampirismo;A técnica para a cura de traumas do pas
 sados que possam ter ocorridos nesta existência ou em vidas anteriore
 s;A forma de como atuar de modo importante para a cura de doenças den
 sas (câncer, mioma, etc. e doenças infecciosas);Como superar conflit
 os de relacionamentos e efetuar melhoria dos relacionamentos a dois;Co
 mo usar o Reiki Karuna para a cura de vícios;Como eliminar o medo ima
 ginário;Como ter determinação para atingir com sucesso os objetivos
  de vida;Como utilizar a técnica de limpeza de ambientas potencializa
 ndo a técnica aprendida no Reiki Usui;E muito mais...\nE ainda recebe
 rá apostila com 43 páginas.\nPré-requisitos Ter sido sintonizado n
 o nível 2 Usui.\n \nPróximas Sintonizações: Em maio e novembro/17
 \n Valor Desconto especial para quem se inscrever para os dois níve
 is do Karuna  e ainda parcelado até em 3 vezes  ou em menos meses 
 de acordo com o tempo até a data da sintonização.\n \nPara inscrev
 er, preencher o formulário que está na página: http://www.moacirsa
 der.com/curso-de-reiki/karuna ou enviar os dados para o email moacir
 sader@moacirsader.com\n \nConteúdo do curso Karuna 2\nA técnica par
 a o rompimento de dependências nocivas de outras pessoas;Como aprimor
 ar as comunicações escrita e falada, curando traumas em falar em pú
 blico;Como manter o foco nos objetivo traçado para o pleno sucesso;Co
 mo realizar a importante técnica da criação de campo magnético de 
 proteção do Reiki Karuna para si e para sua família, a ser utilizad
 a diariamente, mantendo todos protegidos de perigos terrenos e espirit
 uais; e muito mais\n\nPara mais informações, visite https://anjodelu
 z.ning.com/events/cursos-de-reiki-karuna-1-e-2-dist-ncia
DTSTART:20171008T130000Z
DTEND:20171031T130000Z
CATEGORIES:cursos, de, reiki, karuna, 1, e, 2, à, distância
LOCATION:à distância
WEBSITE:http://www.moacirsader.com/curso-de-reiki/karuna
URL:http://www.moacirsader.com/curso-de-reiki/karuna
CONTACT:
ORGANIZER;CN="Moacir Sader":https://anjodeluz.ning.com/profile/MoacirS
 ader
ATTACH;FMTTYPE="image/jpeg":http://storage.ning.com/topology/rest/1.0/
 file/get/89844160?profile=original
ATTENDEE;ROLE=REQ-PARTICIPANT;PARTSTAT=ACCEPTED;RSVP=TRUE;CN="Moacir S
 ader":https://anjodeluz.ning.com/profile/MoacirSader
END:VEVENT
END:VCALENDAR
