BEGIN:VCALENDAR
PRODID:NingEventWidget-v1
VERSION:2.0
METHOD:PUBLISH
BEGIN:VEVENT
UID:867289:Event:4450110
DTSTAMP:20260420T050921Z
SUMMARY:Reiki Usui/Hayashi - Nível III
DESCRIPTION:\n\nPara mais informações, visite https://anjodeluz.ning
 .com/events/reiki-usui-hayashi-n-vel-iii
DTSTART:20190525T170000Z
DTEND:20190526T170000Z
CATEGORIES:curso
LOCATION:Belo Horizonte
WEBSITE:http://www.exerciciosdevida.com.br
URL:http://www.exerciciosdevida.com.br
CONTACT:(31)3241 3781 - 999410060
ORGANIZER;CN="Helemar De Sá":https://anjodeluz.ning.com/profile/Helem
 arDeSa665
ATTACH;FMTTYPE="image/jpeg":
ATTENDEE;ROLE=REQ-PARTICIPANT;PARTSTAT=ACCEPTED;RSVP=TRUE;CN="Helemar 
 De Sá":https://anjodeluz.ning.com/profile/HelemarDeSa665
END:VEVENT
END:VCALENDAR
